BEGIN:VCALENDAR
VERSION:2.0
PRODID:-//eventon.com NONSGML v1.0//EN
CALSCALE:GREGORIAN
METHOD:PUBLISH
BEGIN:VEVENT
UID:69e63ebb6a399
DTSTAMP:20260420T225659
DTSTART:20180807T090000Z
DTEND:20180807T235000Z
TZID:UTC
LOCATION:
SUMMARY:CDSSA Interschool Cross Country
DESCRIPTION: CDSSA Interschool Cross Country\nhttp://davalliaps.wa.edu.au/events/cdssa-interschool-cross-country/
URL:http://davalliaps.wa.edu.au/events/cdssa-interschool-cross-country/
END:VEVENT
END:VCALENDAR